BEGIN:VCALENDAR
VERSION:2.0
PRODID:-//Broken Zebra Golf - ECPv6.15.20//NONSGML v1.0//EN
CALSCALE:GREGORIAN
METHOD:PUBLISH
X-WR-CALNAME:Broken Zebra Golf
X-ORIGINAL-URL:https://www.bzegolf.com
X-WR-CALDESC:Events for Broken Zebra Golf
REFRESH-INTERVAL;VALUE=DURATION:PT1H
X-Robots-Tag:noindex
X-PUBLISHED-TTL:PT1H
BEGIN:VTIMEZONE
TZID:Africa/Casablanca
BEGIN:DAYLIGHT
TZOFFSETFROM:+0100
TZOFFSETTO:+0000
TZNAME:+00
DTSTART:20240310T020000
END:DAYLIGHT
BEGIN:STANDARD
TZOFFSETFROM:+0000
TZOFFSETTO:+0100
TZNAME:+01
DTSTART:20240414T020000
END:STANDARD
BEGIN:DAYLIGHT
TZOFFSETFROM:+0100
TZOFFSETTO:+0000
TZNAME:+00
DTSTART:20250223T020000
END:DAYLIGHT
BEGIN:STANDARD
TZOFFSETFROM:+0000
TZOFFSETTO:+0100
TZNAME:+01
DTSTART:20250406T020000
END:STANDARD
BEGIN:DAYLIGHT
TZOFFSETFROM:+0100
TZOFFSETTO:+0000
TZNAME:+00
DTSTART:20260215T020000
END:DAYLIGHT
BEGIN:STANDARD
TZOFFSETFROM:+0000
TZOFFSETTO:+0100
TZNAME:+01
DTSTART:20260322T020000
END:STANDARD
END:VTIMEZONE
BEGIN:VEVENT
DTSTART;TZID=Africa/Casablanca:20250615T090000
DTEND;TZID=Africa/Casablanca:20250615T140000
DTSTAMP:20260421T154810
CREATED:20250609T120952Z
LAST-MODIFIED:20250610T130849Z
UID:770-1749978000-1749996000@www.bzegolf.com
SUMMARY:Prestigious Tournament
DESCRIPTION:Golf Brothers Association & BrokenZebra Golf Announce “Prestigious Tournament”\nat Tony Jacklin Course\, Marrakech – June 15\, 2025 \n\nJune 5\, 2025 | Marrakech\, Morocco \nThe Golf Brothers Association is excited to announce the launch of its anticipated 2025 Golf Tournament\, scheduled on Sunday\, June 15\, 2025\, at the Tony Jacklin Golf Course in Marrakech\, Morocco. The event will tee off at 9:00 AM\, bringing together a day of elite competition\, social gathering\, fun and celebration. \nThis tournament promises a challenging round of social golf in one of Morocco’s prestigious courses and hopefully an unforgettable golf experience. \nTony Jacklin Golf Course is nestled against the stunning backdrop of the Atlas Mountains\, offering players a unique blend of championship-level playable design. The signature Par three is worth the challenge. Designed by legendary golfer Sir Tony Jacklin\, this course is known for its forgiving fairways\, undulating greens\, and strategic bunkering — making it the perfect venue to play good golf. \nTournament Highlights\nCompetitors can look forward to the following: \n• First Place Trophy • Closest to the Pin Award • Long Drive Awards \nRegistration Information\nMembers and non-members are welcomed to join. Players are encouraged to register early to secure their place. \nFor more information or to register\, visit www.bzegolf.com or contact us at contact@bzegolf.com. \n\nGolf Brothers Association & BrokenZebra Golf
URL:https://www.bzegolf.com/event/prestigious-tournament-at-tony-jacklin-course/
LOCATION:Tony Jacklin Marrakech\, Km 3\, Route de Tahanaout – 40000\, Marrakech\, Haouz\, 40001\, Morocco
ATTACH;FMTTYPE=image/png:https://www.bzegolf.com/wp-content/uploads/2025/06/Tournament-2.png
ORGANIZER;CN="BrokenZebra Golf":MAILTO:contact@bzegolf.com
END:VEVENT
BEGIN:VEVENT
DTSTART;TZID=Africa/Casablanca:20250608T090000
DTEND;TZID=Africa/Casablanca:20250608T140000
DTSTAMP:20260421T154810
CREATED:20250607T210958Z
LAST-MODIFIED:20250607T215326Z
UID:651-1749373200-1749391200@www.bzegolf.com
SUMMARY:Golf Brothers Tournament
DESCRIPTION:Golf Brothers Tournament – Sunday\, 8 June 2025 | Montgomery Golf Course\nThe Golf Brothers are thrilled to invite all golf enthusiasts and fun-loving players for an unforgettable day on the greens at the Montgomery Golf Course\, set against the stunning backdrop of lush fairways and scenic landscapes. \n Date: Sunday\, 8 June 2025\n️ Time: Tee-off at 9:00 AM\n Venue: Montgomery Golf Course \nThis year’s tournament promises excitement\, competition\, and camaraderie in a friendly strokeplay format\, where every stroke counts toward victory. Whether you’re a seasoned pro or just playing for fun\, this event is designed to bring together players of all levels for a great day of sport and socializing. \n Prizes Await:\nIn addition to the ultimate glory of being crowned champion\, there will be exciting awards for: \n•  1st Prize Winner – The top overall scorer takes home the grand title and trophy! \n•  Longest Drive – Show us some power off the tee and win bragging rights. \n•  Nearest to the Pin – Precision pays off with a special prize for the closest shot. \n•  Best Dressed Party Award – Dress to impress! Players and guests can compete for the most stylish or creative outfits during the post-event dinner. \n️ Dinner Party at FRIKIS\nAfter a full day on the course\, the celebration continues with an exclusive dinner party at FRIKIS\, the perfect place to unwind\, enjoy great food\, and celebrate the winners with friends old and new. \nSo grab your clubs\, polish your shoes\, and get ready for a fantastic day of golf and festivities brought to you by the Golf Brothers! \nLet’s make Sunday\, 8 June 2025 one to remember!
URL:https://www.bzegolf.com/event/golf-brothers-tournement/
LOCATION:Montgomery Golf Course\, Avenue Guemassa\, Route de l'aéroport\, Marrakech 42103\, Marrakech\, Haouz\, 40000\, Morocco
ATTACH;FMTTYPE=image/png:https://www.bzegolf.com/wp-content/uploads/2025/06/tournament.png
ORGANIZER;CN="BrokenZebra Golf":MAILTO:contact@bzegolf.com
END:VEVENT
END:VCALENDAR